Workbook

Sheet Содержание
C12: СКИДКА | D12: 0 | E12: %
C14: Линии раздачи
B16: 1 | C16: GASTROLINE
B17: 2 | C17: SHKOLNIK | G17: 10 | H17: % до 30 ноября 2026
B18: 3 | C18: DROP IN | G18: НОВИНКА!
C19: ванны охлаждаемые
C20: мармиты
C21: поверхность охлаждаемая
C22: поверхность подогреваемая
C23: супница
B24: 4 | C24: СТОЙКА ШЕФА

Sheet GASTROLINE
C12: Серия линии раздачи GASTROLINE
B14: Артикул | C14: Наименование | D14: Габаритные размеры (ШхГхВ), мм | E14: RRP*, руб. с НДС | F14: =CONCATENATE("Цена с учетом скидки ",Содержание!$D$12,"%") -> Цена с учетом скидки 0% | G14: Описание
B15: ПППЧ-БН-СЗ-6 | C15: Прилавок для приборов и подносов с заниженной столешницей 600 | D15: 660х660х660(1320) | E15: 38531.667 | F15: =(1-Содержание!$D$12/100)*E15 -> 38531.667 | G15: Прилавок для столовых приборов столешница из нержавеющей стали марки AISI 430 толщиной 1 мм, корпус из нержавеющей стали марки AISI 430 толщиной 1 мм. Имеет четыре гастроемкости под столовые приборы Поставляется в собранном виде. Вес 86 кг.
B16: М1ИЧ-2К-11,2 | C16: Мармит 1-х блюд индукционный 2-х конфорочный 1120 | D16: 1120х1045(660)х870(1340) | E16: 87025.65 | F16: =(1-Содержание!$D$12/100)*E16 -> 87025.65 | G16: Мармит первых блюд, корпус из нержавеющей стали марки AISI 430 толщиной 1 мм. Имеет 2 конфорки мощностью по 3.5 кВт. Оснащен 1 полкой сверху. Вес 110кг.
B17: М1ИЧ-3К-15 | C17: Мармит 1-х блюд индукционный 3-х конфорочный 1500 | D17: 1500х1045(660)х870(1340) | E17: 98565.833 | F17: =(1-Содержание!$D$12/100)*E17 -> 98565.833 | G17: Мармит первых блюд, корпус из нержавеющей стали марки AISI 430 толщиной 1 мм. Имеет 3 индукционные конфорки мощностью по 3.5 кВт. Оснащен 1 полкой сверху.
B18: М1ЧЧ-2К-11,2 | C18: Мармит 1-х блюд 2-х конфорочный чугунные конфорки 1120 | D18: 1120х1045(660)х870(1340) | E18: 83732.667 | F18: =(1-Содержание!$D$12/100)*E18 -> 83732.667 | G18: Мармит первых блюд, корпус из нержавеющей стали марки AISI 430 толщиной 1 мм. Имеет 2 конфорки, общей мощностью 1,7 кВт. Оснащен 1 полкой сверху. Вес 74кг.
B19: М1ЧЧ-3К-15 | C19: Мармит 1-х блюд 3-х конфорочный чугунные конфорки 1500 | D19: 1500х1045(660)х870(1340) | E19: 99501.167 | F19: =(1-Содержание!$D$12/100)*E19 -> 99501.167 | G19: Мармит первых блюд, корпус из нержавеющей стали марки AISI 430 толщиной 1 мм. Имеет 3 конфорки, общей мощностью 2,58 кВт. Оснащен 1 полкой сверху. Вес 124кг.
B20: М1СЧ-2К-11,2 | C20: Мармит 1-х блюд под супницы 1120 | D20: 1120х1045(660)х870(1340) | E20: 69859.233 | F20: =(1-Содержание!$D$12/100)*E20 -> 69859.233 | G20: Мармит первых блюд, корпус из нержавеющей стали марки AISI 430 толщиной 1 мм. С полкой. Имеет 2 розетки. Оснащен 1 полкой сверху. Вес 92кг.
B21: М1СЧ-3К-15 | C21: Мармит 1-х блюд под супницы 1500 | D21: 1500х1045(660)х870(1340) | E21: 73864.9 | F21: =(1-Содержание!$D$12/100)*E21 -> 73864.9 | G21: Мармит первых блюд, корпус из нержавеющей стали марки AISI 430 толщиной 1 мм. С полкой. Имеет 3 розетки. Оснащен 1 полкой сверху. Вес 132кг.
B22: М2ПЧ-11,2 | C22: Мармит 2-х блюд паровой 1120 | D22: 1120х1030(660)х870 | E22: 128089.83 | F22: =(1-Содержание!$D$12/100)*E22 -> 128089.83 | G22: Корпус из нержавеющей стали марки AISI 430 толщиной 1 мм. С полкой. Нагрев паровой. Поставляется в собранном виде. Мощность 2,5 кВт. Оснащен 1 полкой сверху. Вес 132кг.
B23: М2ПЧ-15 | C23: Мармит 2-х блюд паровой 1500 | D23: 1500х1030(660)х870(1320) | E23: 153506.5 | F23: =(1-Содержание!$D$12/100)*E23 -> 153506.5 | G23: Мармит вторых блюд, корпус из нержавеющей стали марки AISI 430 толщиной 1 мм. С полкой. Нагрев паровой. Поставляется в собранном виде. Мощность 2,5 кВт. Оснащен 1 полкой сверху. Вес 184кг.
B24: ПВХЗЧ-11,2 | C24: Прилавок-витрина холодильный закрытый 1120 | D24: 1120х1030(660)х1707 | E24: 213276.33 | F24: =(1-Содержание!$D$12/100)*E24 -> 213276.33 | G24: Прилавок-витрина холодильный, столешница из нержавеющей стали марки AISI 430 толщиной 1 мм, корпус из нержавеющей стали марки AISI 430 толщиной 1 мм. Витрина три полки, температурв воздуха полезного объема +5...+15 ℃. Поставляется в собранном виде. Вес 194кг.
B25: ПВХЗЧ-15 | C25: Прилавок-витрина холодильный закрытый 1500 | D25: 1500х1030(660)х1707 | E25: 225500 | F25: =(1-Содержание!$D$12/100)*E25 -> 225500 | G25: Прилавок-витрина холодильный, столешница из нержавеющей стали марки AISI 430 толщиной 1 мм, корпус из нержавеющей стали марки AISI 430 толщиной 1 мм. Витрина три полки, температурв воздуха полезного объема +5...+15 ℃. Поставляется в собранном виде. Вес 216кг.
B26: ПНЧ-6 | C26: Прилавок нейтральный 600 | D26: 600х1030(660)х870(1320) | E26: 34231.167 | F26: =(1-Содержание!$D$12/100)*E26 -> 34231.167 | G26: Модуль нейтральный, столешница из нержавеющей стали марки AISI 430 толщиной 1 мм, корпус из нержавеющей стали марки AISI 430 толщиной 1 мм. Не имеет полок сверху. Вес 70кг.
... B48: ПНВУ-90 | C48: Прилавок поворотный, внутренний 90° | D48: 1460х660х870 | E48: 44280 | F48: =(1-Содержание!$D$12/100)*E48 -> 44280 | G48: Прилавок поворотный, внутренний 90°, корпус из нержавеющей стали марки AISI 430 толщиной 1 мм. Вес 98кг.

Sheet SHKOLNIK
C12: Серия линии раздачи SHKOLNIK | G12: Скидка до конца осени 10% 2026
B14: Артикул | C14: Наименование | D14: Габаритные размеры (ШхГхВ), мм | E14: RRP*, руб. с НДС | F14: Цена с учетом скидки 10% | G14: Описание
B15: ПППЧ-БН-СЗ-6-S | C15: Прилавок для приборов и подносов с заниженной столешницей 630 | D15: 630х675х680(1340) | E15: 32000 | F15: =(1-10%)*E15 -> 28800 | G15: Прилавок для столовых приборов и подносов предназначен для хранения и выдачи посетителям столовых приборов и подносов на предприятиях общественного питания. Конструкция выполнена из нержавеющей стали. Напольный модуль с четырьмя емкостями для раздельного размещения вилок, ложек и ножей. В нижней части расположен открытый отсек для хранения подносов и вспомогательного инвентаря. Конструкция обеспечивает удобный доступ к приборам и подносам, а также возможность проведения регулярной санитарной обработки всех рабочих поверхностей. Габаритные размеры в упаковке составляют 800×900×1580 мм, масса — 31/65кг.
B16: М1ЧЧ-2К-11,2-S | C16: Мармит 1-х блюд 2-х конфорочный чугунные конфорки 1120 | D16: 1120х1030(705)х870(1240) | E16: 65550 | F16: =(1-10%)*E16 -> 58995 | G16: Мармит первых блюд предназначен для кратковременного хранения и выдачи первых блюд в наплитных котлах на предприятиях общественного питания. Конструкция включает две электрические конфорки диаметром 220 мм с независимой регулировкой мощности, верхнюю полку и направляющие для подносов. Корпус и рабочие поверхности изготовлены из нержавеющей стали. Поддержание температуры блюд осуществляется непосредственным нагревом наплитной посуды, установленной на конфорках. Время разогрева до рабочего режима составляет не более 20 минут. Габаритные размеры в упаковке составляют 1260×900×1140 мм, масса — 88/144кг. Потребляемая мощность — 2,132 кВт.
B17: М2ПЧ-11,2-S | C17: Мармит 2-х блюд паровой 1120 | D17: 1120х1030(705)х870(1480) | E17: 90000 | F17: =(1-10%)*E17 -> 81000 | G17: Мармит вторых предназначен для кратковременного хранения и раздачи горячих вторых блюд в составе линии раздачи. Конструкция включает паровую ванну с комплектом гастроемкостей GN глубиной 150 мм, две верхние полки, направляющие для подносов и открытый шкаф для хранения инвентаря. Поддержание температуры осуществляется посредством нагрева воды в ванне ТЭНами с последующей передачей тепла через горячий пар. Рабочая температура достигает +85 °С, время выхода на режим составляет не более 25 минут. Корпус выполнен из нержавеющей стали и установлен на регулируемых опорах. Модуль подключается к электрической сети 230 В и используется для организации выдачи горячих блюд в столовых, кафе, буфетах и других предприятиях общественного питания. Габаритные размеры в упаковке составляют 1260×900×1140 мм, масса — 88/144кг. Потребляемая мощность — 2,0 кВт
B18: ПВХЗЧ-11,2-S | C18: Прилавок-витрина холодильный закрытый 1120 | D18: 1120х1030(705)х1720 | E18: 157200 | F18: =(1-10%)*E18 -> 141480 | G18: Прилавок-витрина холодильный предназначен для кратковременного хранения, демонстрации и выдачи холодных закусок, салатов, десертов и напитков в составе линии раздачи Школьник. Конструкция включает охлаждаемую демонстрационную витину, с боковой подсветкой, защитное стеклянное ограждение, направляющие для подносов и нейтральный шкаф для хранения инвентаря. Поддержание температуры продукции осуществляется встроенной холодильной системой, обеспечивающей температурный режим от +5 до +15 °С. Корпус изготовлен из нержавеющей стали и установлен на регулируемых опорах. Габаритные размеры в упаковке составляют 1260×900×2080 мм, масса — 140/194кг.
B19: ПНЧ-6-S | C19: Прилавок нейтральный 630 | D19: 630х1030(705)х870 | E19: 28500 | F19: =(1-10%)*E19 -> 25650 | G19: Модуль нейтральный предназначен для размещения хлебобулочных и кондитерских изделий, посуды, столовых приборов и вспомогательного оборудования в составе линии раздачи Школьник. Конструкция выполнена из нержавеющей стали и включает нейтральную рабочую поверхность, открытый шкаф для хранения кухонного инвентаря, направляющие для подносов и регулируемые по высоте опоры. Шкаф обеспечивает удобное размещение продукции и инвентаря, а также возможность интеграции с другими модулями линии раздачи. Габаритные размеры в упаковке составляют 800×900×1140 мм, масса — 32/66 кг.
B20: ПНЧ-11,2-S | C20: Прилавок для горячих напитков 1120 | D20: 1120х1030(705)х870 | E20: 47500 | F20: =(1-10%)*E20 -> 42750 | G20: Прилавок для горячих напитков предназначен для организации зоны выдачи горячих напитков и сопутствующей продукции в составе линии раздачи. Модуль представляет собой напольный нейтральный прилавок с рабочей поверхностью из нержавеющей стали, рассчитанной на размещение кипятильников, термостатов, диспенсеров и другого оборудования. Конструкция включает металлический каркас с полимерным покрытием, облицовку из нержавеющей стали, полки в прилавке для хранения инвентаря и две розетки 16 А с заземлением для подключения оборудования. В комплект входят направляющие для подносов, а регулируемые опоры обеспечивают выравнивание модуля в составе линии раздачи. Прилавок используется в столовых, кафе, ресторанах и других предприятиях общественного питания. Габаритные размеры в упаковке составляют 1260×900×1140 мм, масса — 66/114 кг.
B21: ККЧ-11,2 | C21: Кассовая кабина 1120 мм | D21: 1120х1030(705)х870 | E21: 39000 | F21: =(1-10%)*E21 -> 35100 | G21: Кассовая кабина универсальная, корпус из нержавеющей стали марки AISI 430 толщиной 1 мм. Может быть в левом и правом исполнении. Поставляется в собранном виде. Вес 55кг.
B22: М1ЧЧ-3К-15-S | C22: Мармит 1-х блюд 3-х конфорочный чугунные конфорки 1500 | D22: 1500х1030(705)х870(1240) | E22: 78550 | F22: =(1-10%)*E22 -> 70695 | G22: Мармит первых блюд предназначен для кратковременного хранения и выдачи первых блюд в наплитных котлах на предприятиях общественного питания. Конструкция включает три электрические конфорки диаметром 220 мм с независимой регулировкой мощности, верхнюю полку и направляющие для подносов. Корпус и рабочие поверхности изготовлены из нержавеющей стали. Поддержание температуры блюд осуществляется непосредственным нагревом наплитной посуды, установленной на конфорках. Время разогрева до рабочего режима составляет не более 20 минут. Габаритные размеры в упаковке составляют 1600×900×1140 мм, масса —84/122кг. Потребляемая мощность — 3,13 кВт. Напряжение — 400/230 В.
B23: М2ПЧ-15-S | C23: Мармит 2-х блюд паровой 1500 | D23: 1500х1030(705)х870(1480) | E23: 96000 | F23: =(1-10%)*E23 -> 86400 | G23: Мармит вторых предназначен для кратковременного хранения и раздачи горячих вторых блюд в составе линии раздачи. Конструкция включает паровую ванну с комплектом гастроемкостей GN глубиной 150 мм, две верхние полки, направляющие для подносов и открытый шкаф для хранения инвентаря. Поддержание температуры осуществляется посредством нагрева воды в ванне ПЭНами с последующей передачей тепла через горячий пар. Рабочая температура достигает +85 °С, время выхода на режим составляет не более 25 минут. Корпус выполнен из нержавеющей стали и установлен на регулируемых опорах. Модуль подключается к электрической сети 230 В и используется для организации выдачи горячих блюд в столовых, кафе, буфетах и других предприятиях общественного питания. Габаритные размеры в упаковке составляют 1600×900×1140 мм, масса — 110/148кг. Потребляемая мощность — 3,3 кВт. Напряжение — 230 В.
B24: ПНЧ-2ПН-11,2-S | C24: Прилавок для горячих напитков 1120 с двумя полками | D24: 1120х1030(705)х870(1480) | E24: 56000 | F24: =(1-10%)*E24 -> 50400 | G24: Прилавок для горячих напитков с двумя полками предназначен для организации зоны выдачи горячих напитков и сопутствующей продукции в составе линии раздачи. Модуль представляет собой напольный нейтральный прилавок с рабочей поверхностью из нержавеющей стали, рассчитанной на размещение кипятильников, термостатов, диспенсеров и другого оборудования. Конструкция включает металлический каркас с полимерным покрытием, облицовку из нержавеющей стали, полки в прилавке для хранения инвентаря и две розетки 16 А с заземлением для подключения оборудования. В комплект входят направляющие для подносов, а регулируемые опоры обеспечивают выравнивание модуля в составе линии раздачи. Прилавок используется в столовых, кафе, ресторанах и других предприятиях общественного питания. Габаритные размеры в упаковке составляют 1260×900×1140 мм, масса — 66/104 кг. Напряжение — 230 В.
B25: ПНЧ-2ПН-15-S | C25: Прилавок для горячих напитков 1500 с двумя полками | D25: 1500х1030(705)х870(1480) | E25: 58900 | F25: =(1-10%)*E25 -> 53010 | G25: Прилавок для горячих напитков с двумя полками предназначен для организации зоны выдачи горячих напитков и сопутствующей продукции в составе линии раздачи. Модуль представляет собой напольный нейтральный прилавок с рабочей поверхностью из нержавеющей стали с двумя настольными полками, рассчитанной на размещение кипятильников, термостатов, диспенсеров и другого оборудования. Конструкция включает металлический каркас с полимерным покрытием, облицовку из нержавеющей стали, полки в прилавке для хранения инвентаря и две розетки 16 А с заземлением для подключения оборудования. В комплект входят направляющие для подносов, а регулируемые опоры обеспечивают выравнивание модуля в составе линии раздачи. Прилавок используется в столовых, кафе, ресторанах и других предприятиях общественного питания. Габаритные размеры в упаковке составляют 1260×900×1140 мм, масса — 85/123 кг. Напряжение — 230 В.
B26: ПНЧ-15-S | C26: Прилавок для горячих напитков 1500 | D26: 1500х1030(705)х870 | E26: 50800 | F26: =(1-10%)*E26 -> 45720 | G26: Прилавок для горячих напитков предназначен для организации зоны выдачи горячих напитков и сопутствующей продукции в составе линии раздачи. Модуль представляет собой напольный нейтральный прилавок с рабочей поверхностью из нержавеющей стали с двумя настольными полками, рассчитанной на размещение кипятильников, термостатов, диспенсеров и другого оборудования. Конструкция включает металлический каркас с полимерным покрытием, облицовку из нержавеющей стали, полки в прилавке для хранения инвентаря и две розетки 16 А с заземлением для подключения оборудования. В комплект входят направляющие для подносов, а регулируемые опоры обеспечивают выравнивание модуля в составе линии раздачи. Прилавок используется в столовых, кафе, ресторанах и других предприятиях общественного питания. Габаритные размеры в упаковке составляют 1600×900×1140 мм, масса — 70/108 кг. Напряжение — 230 В.

Sheet DIN ванны охлаждаемые
B2: Ванна охлаждаемая drop-in
B4: Размерность | C4: Артикул | D4: Габариты, мм | E4: Температурный режим, °C | F4: Мощность, кВт | G4: Описание | H4: РРЦ, ₽ с НДС
B5: На 1 GN | C5: MDP-CB1 | D5: 450 × 620 × 395 | E5: +2…+8 | F5: 0.25 | G5: Охлаждаемая ванна на 1 GN для хранения и демонстрации холодных блюд и продуктов. | H5: 71000
B6: На 2 GN | C6: MDP-CB2 | D6: 770 × 620 × 395 | E6: +2…+8 | F6: 0.25 | G6: Охлаждаемая ванна на 2 GN для хранения и демонстрации холодных блюд и продуктов. | H6: 86000
B7: На 3 GN | C7: MDP-CB3 | D7: 1095 × 620 × 395 | E7: +2…+8 | F7: 0.45 | G7: Охлаждаемая ванна на 3 GN для хранения и демонстрации холодных блюд и продуктов. | H7: 98000
B8: На 4 GN | C8: MDP-CB4 | D8: 1420 × 620 × 395 | E8: +2…+8 | F8: 0.45 | G8: Охлаждаемая ванна на 4 GN для хранения и демонстрации холодных блюд и продуктов. | H8: 122000
B9: Ванна охлаждаемая с Г/Т-образной полкой и подсветкой
B10: На 2 GN | C10: MDP-CT2-T | D10: 770 × 620 × 1135 | E10: +2…+8 | F10: 0.25 | G10: Охлаждаемая ванна на 2 GN с Т-образной полкой и подсветкой для демонстрационной выкладки. | H10: =H6+[2]Опции!C6 -> 148000
B11: На 3 GN | C11: MDP-CT3-T | D11: 1095 × 620 × 1135 | E11: +2…+8 | F11: 0.45 | G11: Охлаждаемая ванна на 3 GN с Т-образной полкой и подсветкой для демонстрационной выкладки. | H11: =H7+[2]Опции!D6 -> 173000
B12: На 4 GN | C12: MDP-CT4-T | D12: 1420 × 620 × 1135 | E12: +2…+8 | F12: 0.45 | G12: Охлаждаемая ванна на 4 GN с Т-образной полкой и подсветкой для демонстрационной выкладки. | H12: =H8+[2]Опции!E6 -> 122000
B13: Ванна охлаждаемая, с полкой (Г-Т-образной) на каркасе под обшивку
B14: На 2 GN | C14: MDP-CB2-T-B | D14: 770 × 620 × 1295 | E14: +2…+8 | F14: 0.25 | G14: Охлаждаемая ванна на 2 GN с полкой и каркасом под обшивку для интеграции в линию или отдельно стоящий модуль | H14: =H10+[2]Опции!C8 -> 195000
B15: На 3 GN | C15: MDP-CB3-T-B | D15: 1095 × 620 × 1295 | E15: +2…+8 | F15: 0.45 | G15: Охлаждаемая ванна на 3 GN с полкой и каркасом под обшивку для интеграции в линию или отдельно стоящий модуль | H15: =H11+[2]Опции!D8 -> 226000
B16: На 4 GN | C16: MDP-CB4-T-B | D16: 1420 × 620 × 1295 | E16: +2…+8 | F16: 0.45 | G16: Охлаждаемая ванна на 4 GN с полкой и каркасом под обшивку для интеграции в линию или отдельно стоящий модуль | H16: ='[2]Ванна охлаждаемая'!H11+[2]Опции!E8 -> 0
B17: Ванна охлаждаемая, с полкой (Г-Т-образной), на каркасе с фасадами
B18: На 2 GN | C18: MDP-CB2-T-F | D18: 770 × 620 × 1295 | E18: +2…+8 | F18: 0.25 | G18: Охлаждаемая ванна на 2 GN с полкой и фасадом для закрытого оформления линии. | H18: =H10+[2]Опции!C9 -> 148000
B19: На 3 GN | C19: MDP-CB3-T-F | D19: 1095 × 620 × 1295 | E19: +2…+8 | F19: 0.45 | G19: Охлаждаемая ванна на 3 GN с полкой и фасадом для закрытого оформления линии. | H19: =H11+[2]Опции!D9 -> 173000
B20: На 4 GN | C20: MDP-CB4-T-F | D20: 1420 × 620 × 1295 | E20: +2…+8 | F20: 0.45 | G20: Охлаждаемая ванна на 4 GN с полкой и фасадом для закрытого оформления линии. | H20: =H12+[2]Опции!E9 -> 122000
B21: ОПЦИЯ комплект колес

Sheet DIN мармиты
B3: Мармит drop-in | F3: Встраиваемый мармит на 1 GN для поддержания температуры готовых блюд.
B5: Размерность | C5: Артикул | D5: Габариты, мм | E5: Температурный режим, °C | F5: Мощность, кВт | G5: Описание | H5: РРЦ, ₽ с НДС
B6: На 1 GN | C6: MDP-HM1 | D6: 450 × 620 × 205 | E6: +30…+80 | F6: 1 | G6: Встраиваемый мармит на 1 GN для поддержания температуры готовых блюд. | H6: 39000
B7: На 2 GN | C7: MDP-HM2 | D7: 770 × 620 × 205 | E7: +30…+80 | F7: 1 | G7: Встраиваемый мармит на 2 GN для поддержания температуры готовых блюд. | H7: 51000
B8: На 3 GN | C8: MDP-HM3 | D8: 1095 × 620 × 205 | E8: +30…+80 | F8: 2 | G8: Встраиваемый мармит на 3 GN для поддержания температуры готовых блюд. | H8: 63000
B9: На 4 GN | C9: MDP-HM4 | D9: 1420 × 620 × 205 | E9: +30…+80 | F9: 2 | G9: Встраиваемый мармит на 4 GN для поддержания температуры готовых блюд. | H9: 75000
B10: Мармит с L/Т-образной полкой и подсветкой
B11: На 2 GN | C11: MDP-HM2-T | D11: 770 × 620 × 1135 | E11: +30…+80 | F11: 1 | G11: Мармит на 2 GN с Т-образной полкой и подсветкой для линии раздачи. | H11: ='[2]Ванна мармит'!H6+[2]Опции!C7 -> 37000
B12: На 3 GN | C12: MDP-HM3-T | D12: 1095 × 620 × 1135 | E12: +30…+80 | F12: 2 | G12: Мармит на 3 GN с Т-образной полкой и подсветкой для линии раздачи. | H12: =H8+[2]Опции!D7 -> 105000
B13: На 4 GN | C13: MDP-HM4-T | D13: 1420 × 620 × 1135 | E13: +30…+80 | F13: 2 | G13: Мармит на 4 GN с Т-образной полкой и подсветкой для линии раздачи. | H13: =H9+[2]Опции!E7 -> 75000
B14: Мармит с L/Т-образной полкой и ИК-подогревом
B15: На 2 GN | C15: MDP-HM2-LI | D15: 770 × 620 × 600 | E15: +30…+80 | F15: 1 | G15: Мармит на 2 GN с полкой и ИК-подогревом блюд под полкой. | H15: =H7+[2]Опции!C8 -> 98000
B16: На 3 GN | C16: MDP-HM3-LI | D16: 1095 × 620 × 600 | E16: +30…+80 | F16: 2 | G16: Мармит на 3 GN с полкой и ИК-подогревом блюд под полкой. | H16: =H8+[2]Опции!D8 -> 116000
B17: На 4 GN | C17: MDP-HM4-LI | D17: 1420 × 620 × 600 | E17: +30…+80 | F17: 2 | G17: Мармит на 4 GN с полкой и ИК-подогревом блюд под полкой. | H17: =H9+[2]Опции!E8 -> 75000
B18: Мармит с полкой (L-Т-образной) на каркасе под обшивку
B19: На 2 GN | C19: MDP-HM2-T-B | D19: 770 × 620 × 1295 | E19: +30…+80 | F19: 1 | G19: Мармит на 2 GN с полкой и каркасом под обшивку для интеграции в линию или отдельно стоящий модуль | H19: =H11+[2]Опции!C9 -> 37000
B20: На 3 GN | C20: MDP-HM3-T-B | D20: 1095 × 620 × 1295 | E20: +30…+80 | F20: 2 | G20: Мармит на 3 GN с полкой и каркасом под обшивку для интеграции в линию или отдельно стоящий модуль | H20: =H12+[2]Опции!D9 -> 105000
B21: На 4 GN | C21: MDP-HM4-T-B | D21: 1420 × 620 × 1295 | E21: +30…+80 | F21: 2 | G21: Мармит на 4 GN с полкой и каркасом под обшивку для интеграции в линию или отдельно стоящий модуль | H21: =H13+[2]Опции!E9 -> 75000
B22: Мармит с полкой (L-Т-образной), на каркасе с фасадами
B23: На 2 GN | C23: MDP-HM2-T-F | D23: 770 × 620 × 1295 | E23: +30…+80 | F23: 1 | G23: Мармит на 2 GN с полкой и фасадом для закрытого оформления линии или отдельно в стоящий модуль | H23: =H11+[2]Опции!C10 -> 37000
B24: На 3 GN | C24: MDP-HM3-T-F | D24: 1095 × 620 × 1295 | E24: +30…+80 | F24: 2 | G24: Мармит на 2 GN с полкой и фасадом для закрытого оформления линии или отдельно в стоящий модуль | H24: =H12+[2]Опции!D10 -> 105000
B25: На 4 GN | C25: MDP-HM4-T-F | D25: 1420 × 620 × 1295 | E25: +30…+80 | F25: 2 | G25: Мармит на 2 GN с полкой и фасадом для закрытого оформления линии или отдельно в стоящий модуль | H25: =H13+[2]Опции!E10 -> 75000
B26: ОПЦИЯ комплект колес

Sheet DIN поверхность охлаждаемая
B2: Поверхность охлаждаемая drop-in
B4: Размерность | C4: Артикул | D4: Габариты, мм | E4: Температурный режим, °C | F4: Описание | G4: РРЦ, ₽ с НДС
B5: На 2 GN | C5: MDP-CT2 | D5: 770 × 620 × 420 | E5: +2…+8 | F5: Охлаждаемая поверхность на 2 GN для открытой выкладки холодных блюд и продуктов. | G5: 87000
B6: На 3 GN | C6: MDP-CT3 | D6: 1095 × 620 × 420 | E6: +2…+8 | F6: Охлаждаемая поверхность на 2 GN для открытой выкладки холодных блюд и продуктов. | G6: 106000
B7: На 4 GN | C7: MDP-CT4 | D7: 1420 × 620 × 420 | E7: +2…+8 | F7: Охлаждаемая поверхность на 2 GN для открытой выкладки холодных блюд и продуктов. | G7: 125000
B8: Негастронормированная | C8: MDP-CT70 | D8: 700 × 700 × 420 | E8: +2…+8 | F8: Охлаждаемая поверхность на 700х700мм для плоской выкладки холодных блюд и продуктов. | G8: 79000
B9: Негастронормированная | C9: MDP-CT100 | D9: 1000 × 700 × 420 | E9: +2…+9 | F9: Охлаждаемая поверхность на 1000х700мм для плоской выкладки холодных блюд и продуктов. | G9: 106000
B10: Поверхность охлаждаемая с L/Т-образной полкой и подсветкой
B11: На 2 GN | C11: MDP-CT2-T | D11: 770 × 620 × 1140 | E11: +2…+8 | F11: Охлаждаемая поверхность на 2 GN с полкой и подсветкой для демонстрации продукции. | G11: =G5+[2]Опции!C6 -> 149000
B12: На 3 GN | C12: MDP-CT3-T | D12: 1095 × 620 × 1140 | E12: +2…+8 | F12: Охлаждаемая поверхность на 3 GN с полкой и подсветкой для демонстрации продукции. | G12: =G6+[2]Опции!D6 -> 181000
B13: На 4 GN | C13: MDP-CT4-T | D13: 1420 × 620 × 1140 | E13: +2…+8 | F13: Охлаждаемая поверхность на 4 GN с полкой и подсветкой для демонстрации продукции. | G13: =G7+[2]Опции!E6 -> 125000
B14: Поверхность охлаждаемая, с полкой (L-Т-образной) на каркасе под обшивку
B15: На 2 GN | C15: MDP-CT2-T-B | D15: 770 × 620 × 1295 | E15: +2…+8 | F15: Охлаждаемая поверхность на 2 GN с полкой и каркасом под обшивку для интеграции в линию или отдельно стоящий модуль | G15: =G11+[2]Опции!C8 -> 196000
B16: На 3 GN | C16: MDP-CT3-T-B | D16: 1095 × 620 × 1295 | E16: +2…+8 | F16: Охлаждаемая поверхность на 3 GN с полкой и каркасом под обшивку для интеграции в линию или отдельно стоящий модуль | G16: =G12+[2]Опции!D8 -> 234000
B17: На 4 GN | C17: MDP-CT4-T-B | D17: 1420 × 620 × 1295 | E17: +2…+8 | F17: Охлаждаемая поверхность на 4 GN с полкой и каркасом под обшивку для интеграции в линию или отдельно стоящий модуль | G17: =G13+[2]Опции!E9 -> 125000
B18: Поверхность охлаждаемая, с полкой (L-Т-образной), на каркасе с фасадами
B19: На 2 GN | C19: MDP-CT2-T-F | D19: 770 × 620 × 1295 | E19: +2…+8 | F19: Охлаждаемая поверхность на 2 GN с полкой и фасадом для закрытого оформления линии или отдельно в стоящий модуль | G19: =G11+[2]Опции!C9 -> 149000
B20: На 3 GN | C20: MDP-CT3-T-F | D20: 1095 × 620 × 1295 | E20: +2…+8 | F20: Охлаждаемая поверхность на 3 GN с полкой и фасадом для закрытого оформления линии или отдельно в стоящий модуль | G20: =G12+[2]Опции!D9 -> 181000
B21: На 4 GN | C21: MDP-CT4-T-F | D21: 1420 × 620 × 1295 | E21: +2…+8 | F21: Охлаждаемая поверхность на 4 GN с полкой и фасадом для закрытого оформления линии или отдельно в стоящий модуль | G21: =G13+[2]Опции!E9 -> 125000
B22: ОПЦИЯ комплект колес

Sheet DIN поверхность подогреваемая
B3: Поверхность подогреваемая drop-in
B5: Размерность | C5: Артикул | D5: Габариты, мм | E5: Температурный режим, °C | F5: Описание | G5: РРЦ, ₽ с НДС
B6: На 2 GN | C6: MDP-HT2 | D6: 770 × 620 × 275 | E6: +30…+80 | F6: Подогреваемая поверхность на 2 GN для открытой выкладки холодных блюд и продуктов. | G6: 52000
B7: На 3 GN | C7: MDP-HT3 | D7: 1095 × 620 × 275 | E7: +30…+80 | F7: Подогреваемая поверхность на 3 GN для открытой выкладки холодных блюд и продуктов. | G7: 66000
B8: На 4 GN | C8: MDP-HT4 | D8: 1420 × 620 × 275 | E8: +30…+80 | F8: Подогреваемая поверхность на 4 GN для открытой выкладки холодных блюд и продуктов. | G8: 80000
B9: Негастронормированная | C9: MDP-HT70 | D9: 700 × 700 × 275 | E9: +30…+80 | F9: Подогреваемая поверхность на 700х700мм для плоской выкладки холодных блюд и продуктов. | G9: 59000
B10: Негастронормированная | C10: MDP-HT100 | D10: 1000 × 700 × 275 | E10: +30…+80 | F10: Подогреваемая поверхность на 1000х700мм для плоской выкладки холодных блюд и продуктов. | G10: 78000
B11: Поверхность подогреваемая с L/Т-образной полкой и подсветкой
B12: На 2 GN | C12: MDP-HT2-T | D12: 770 × 620 × 600 | E12: +30…+80 | F12: Подогреваемая поверхность на 2 GN с полкой и подсветкой для демонстрации продукции. | G12: =G6+[2]Опции!C7 -> 89000
B13: На 3 GN | C13: MDP-HT3-T | D13: 1095 × 620 × 600 | E13: +30…+80 | F13: Подогреваемая поверхность на 3 GN с полкой и подсветкой для демонстрации продукции. | G13: =G7+[2]Опции!D7 -> 108000
B14: На 4 GN | C14: MDP-HT4-T | D14: 1420 × 620 × 600 | E14: +30…+80 | F14: Подогреваемая поверхность на 4 GN с полкой и подсветкой для демонстрации продукции. | G14: =G8+[2]Опции!E7 -> 80000
B15: Поверхность подогреваемая с L/Т-образной полкой и ИК-подогревом
B16: На 2 GN | C16: MDP-HT2-LI | D16: 770 × 620 × 600 | E16: +30…+80 | F16: Подогреваемая поверхность на 2 GN с полкой ИК-подогревом блюд под полкой. | G16: =G6+[2]Опции!C8 -> 99000
B17: На 3 GN | C17: MDP-HT3-LI | D17: 1095 × 620 × 600 | E17: +30…+80 | F17: Подогреваемая поверхность на 3 GN с полкой ИК-подогревом блюд под полкой. | G17: =G7+[2]Опции!D8 -> 119000
B18: На 4 GN | C18: MDP-HT4-LI | D18: 1420 × 620 × 600 | E18: +30…+80 | F18: Подогреваемая поверхность на 4 GN с полкойИК-подогревом блюд под полкой. | G18: =G8+[2]Опции!E8 -> 80000
B19: Поверхность подогреваемая, с полкой (L-Т-образной) на каркасе под обшивку + колеса
B20: На 2 GN | C20: MDP-HT2-T-B | D20: 770 × 620 × 1295 | E20: +30…+80 | F20: Подогреваемая поверхность на 2 GN с полкой и каркасом под обшивку для интеграции в линию или отдельно стоящий модуль | G20: =G12+[2]Опции!C9 -> 89000
B21: На 3 GN | C21: MDP-HT3-T-B | D21: 1095 × 620 × 1295 | E21: +30…+80 | F21: Подогреваемая поверхность на 3 GN с полкой и каркасом под обшивку для интеграции в линию или отдельно стоящий модуль | G21: =G13+[2]Опции!D9 -> 108000
B22: На 4 GN | C22: MDP-HT4-T-B | D22: 1420 × 620 × 1295 | E22: +30…+80 | F22: Подогреваемая поверхность на 4 GN с полкой и каркасом под обшивку для интеграции в линию или отдельно стоящий модуль | G22: =G14+[2]Опции!E9 -> 80000
B23: Поверхность подогреваемая, с полкой (L-Т-образной), на каркасе с фасадами + колеса
B24: На 2 GN | C24: MDP-HT2-T-F | D24: 770 × 620 × 1295 | E24: +30…+80 | F24: Подогреваемая поверхность на 2 GN с полкой и фасадом для закрытого оформления линии или отдельно в стоящий модуль | G24: =G12+[2]Опции!C10 -> 89000
B25: На 3 GN | C25: MDP-HT3-T-F | D25: 1095 × 620 × 1295 | E25: +30…+80 | F25: Охлаждаемая поверхность на 3 GN с полкой и фасадом для закрытого оформления линии или отдельно в стоящий модуль | G25: =G13+[2]Опции!D10 -> 108000
B26: На 4 GN | C26: MDP-HT4-T-F | D26: 1420 × 620 × 1295 | E26: +30…+80 | F26: Охлаждаемая поверхность на 4 GN с полкой и фасадом для закрытого оформления линии или отдельно в стоящий модуль | G26: =G14+[2]Опции!E10 -> 80000
B27: ОПЦИЯ комплект колес

Sheet DIN супница
B4: Супница встраиваемая
B6: Исполнение | C6: Артикул | D6: Габариты, мм | E6: Параметры | F6: Артикул | G6: Описание | H6: РРЦ, ₽ с НДС
B7: На 10 л | C7: MDP-S10 | D7: 400 × 400 × 380 | E7: 220 В, 0,45 кВт, до +80°C | F7: MDP-SINK-10L | G7: Встраиваемая супница объемом 10 л для поддержания температуры супов, соусов и других жидких блюд. | H7: 60000

Sheet CHEF&SERV
C15: Стойки CHEF&SERV
C18: Артикул | D18: Наименование | E18: Габаритные размеры, д*г*в | F18: RRP*, руб. с НДС 22% | G18: =CONCATENATE("Цена с учетом скидки ",Содержание!$D$12,"%") -> Цена с учетом скидки 0% | H18: Описание
D19: Модуль левый - стартовый | H19: Стартовый модуль линии. Левый модуль предназначен для начала линии SHEF&SER. Оснащён левой стойкой для установки двухъярусной полки, левым боковым ограничителем (крылом) со стороны повара и официантской стойкой. Формирует левую границу линии и обеспечивает её начальное исполнение.
C20: CHS-L-09 | D20: Модуль левый CHS-L-09 стартовый | E20: 930х1150х1670 | F20: 53020 | G20: =(1-[1]Содержание!$D$12/100)*Таблица43[[#This Row],[RRP*, руб. с НДС 22%]] -> 53020 | H20: Коплектация: Левая стойка для 2 полок, левое крыло, официантская стойка, две полки
C21: CHS-L-12 | D21: Модуль левый CHS-L-12 стартовый | E21: 1230х1150х1670 | F21: 64350 | G21: =(1-[1]Содержание!$D$12/100)*Таблица43[[#This Row],[RRP*, руб. с НДС 22%]] -> 64350 | H21: Коплектация: Левая стойка для 2 полок, левое крыло, официантская стойка, две полки
C22: CHS-L-14 | D22: Модуль левый CHS-L-14 стартовый | E22: 1425х1150х1670 | F22: 77620 | G22: =(1-[1]Содержание!$D$12/100)*Таблица43[[#This Row],[RRP*, руб. с НДС 22%]] -> 77620 | H22: Коплектация: Левая стойка для 2 полок, левое крыло, официантская стойка, две полки
C23: CHS-L-16 | D23: Стойка левый CHS-L-16 стартовый | E23: 1660х1150х1670 | F23: 97020 | G23: =(1-[1]Содержание!$D$12/100)*Таблица43[[#This Row],[RRP*, руб. с НДС 22%]] -> 97020 | H23: Коплектация: Левая стойка для 2 полок, левое крыло, официантская стойка, две полки
C24: CHS-L-18 | D24: Стойка левый CHS-L-18 стартовый | E24: 1880х1150х1670 | F24: 99000 | G24: =(1-[1]Содержание!$D$12/100)*Таблица43[[#This Row],[RRP*, руб. с НДС 22%]] -> 99000 | H24: Коплектация: Левая стойка для 2 полок, левое крыло, официантская стойка, две полки
C25: CHS-L-20 | D25: Стойка левый CHS-L-20 стартовый | E25: 2090х1150х1670 | F25: 123750 | G25: =(1-[1]Содержание!$D$12/100)*Таблица43[[#This Row],[RRP*, руб. с НДС 22%]] -> 123750 | H25: Коплектация: Левая стойка для 2 полок, левое крыло, официантская стойка, две полки
D27: Модуль центральный | H27: Центральный модуль SHEF&SER предназначен для увеличения длины линии и формирования её промежуточных участков. Модуль оснащён стойкой для установки двухъярусной полки с возможностью размещения полок с левой и правой стороны, левым боковым ограничителем (крылом) со стороны повара и официантской стойкой. Конструкция модуля позволяет присоединять к нему левый (L) и правый (R) модули, а также последовательно устанавливать несколько центральных модулей для увеличения длины линии.
C28: CHS-C-09 | D28: Модуль CHS-C-09 стартовый | E28: 930х1150х1670 | F28: 53020 | G28: =(1-[1]Содержание!$D$12/100)*Таблица43[[#This Row],[RRP*, руб. с НДС 22%]] -> 53020 | H28: Коплектация: Левая стойка для 2 полок, левое крыло, официантская стойка, две полки возможность присоединения L и R
C29: CHS-C-12 | D29: Модуль CHS-C-12 стартовый | E29: 1230х1150х1670 | F29: 64350 | G29: =(1-[1]Содержание!$D$12/100)*Таблица43[[#This Row],[RRP*, руб. с НДС 22%]] -> 64350 | H29: Коплектация: Левая стойка для 2 полок, левое крыло, официантская стойка, две полки возможность присоединения L и R
C30: CHS-C-14 | D30: Модуль CHS-C-14 стартовый | E30: 1425х1150х1670 | F30: 77620 | G30: =(1-[1]Содержание!$D$12/100)*Таблица43[[#This Row],[RRP*, руб. с НДС 22%]] -> 77620 | H30: Коплектация: Левая стойка для 2 полок, левое крыло, официантская стойка, две полки, возможность присоединения L и R
C31: CHS-C-16 | D31: Модуль CHS-C-16 стартовый | E31: 1660х1150х1670 | F31: 97020 | G31: =(1-[1]Содержание!$D$12/100)*Таблица43[[#This Row],[RRP*, руб. с НДС 22%]] -> 97020 | H31: Коплектация: Левая стойка для 2 полок, левое крыло, официантская стойка, две полки, возможность присоединения L и R
C32: CHS-C-18 | D32: Модуль CHS-C-18 стартовый | E32: 1880х1150х1670 | F32: 99000 | G32: =(1-[1]Содержание!$D$12/100)*Таблица43[[#This Row],[RRP*, руб. с НДС 22%]] -> 99000 | H32: Коплектация: Левая стойка для 2 полок, левое крыло, официантская стойка, две полки, возможность присоединения L и R
C33: CHS-C-20 | D33: Модуль CHS-C-20 стартовый | E33: 2090х1150х1670 | F33: 123750 | G33: =(1-[1]Содержание!$D$12/100)*Таблица43[[#This Row],[RRP*, руб. с НДС 22%]] -> 123750 | H33: Коплектация: Левая стойка для 2 полок, левое крыло, официантская стойка, две полки, возможность присоединения L и R
D35: Модуль правый - финишный | H35: Финишный модуль линии. Правый модуль предназначен для завершения линии SHEF&SER. Оснащён левой и правой стойками для установки двухъярусной полки, левым и правым боковым ограничителеми (крыльми) со стороны повара и официантской стойкой. Формирует правую границу линии и обеспечивает её завершённое исполнение.
C36: CHS-R-09 | D36: Модуль правый CHS-R-09 стартовый | E36: 955х1150х1670 | F36: 69130 | G36: =(1-[1]Содержание!$D$12/100)*Таблица43[[#This Row],[RRP*, руб. с НДС 22%]] -> 69130 | H36: Коплектация: Левая и правая стойки для 2 полок, левое и правое крылья, официантская стойка, две полки
C37: CHS-R-12 | D37: Модуль правый CHS-R-12 стартовый | E37: 1255х1150х1670 | F37: 112720 | G37: =(1-[1]Содержание!$D$12/100)*Таблица43[[#This Row],[RRP*, руб. с НДС 22%]] -> 112720 | H37: Коплектация: Левая и правая стойки для 2 полок, левое и правое крылья, официантская стойка, две полки
C38: CHS-R-14 | D38: Модуль правый CHS-R-14 стартовый | E38: 1450х1150х1670 | F38: 158390 | G38: =(1-[1]Содержание!$D$12/100)*Таблица43[[#This Row],[RRP*, руб. с НДС 22%]] -> 158390 | H38: Коплектация: Левая и правая стойки для 2 полок, левое и правое крылья, официантская стойка, две полки
C39: CHS-R-16 | D39: Модуль правый CHS-R-16 стартовый | E39: 1685х1150х1670 | F39: 72430 | G39: =(1-[1]Содержание!$D$12/100)*Таблица43[[#This Row],[RRP*, руб. с НДС 22%]] -> 72430 | H39: Коплектация: Левая и правая стойки для 2 полок, левое и правое крылья, официантская стойка, две полки
C40: CHS-R-18 | D40: Модуль правый CHS-R-18 стартовый | E40: 1905х1150х1670 | F40: 115910 | G40: =(1-[1]Содержание!$D$12/100)*Таблица43[[#This Row],[RRP*, руб. с НДС 22%]] -> 115910 | H40: Коплектация: Левая и правая стойки для 2 полок, левое и правое крылья, официантская стойка, две полки
C41: CHS-R-20 | D41: Модуль правый CHS-R-20 стартовый | E41: 2115х1150х1670 | F41: 160250 | G41: =(1-[1]Содержание!$D$12/100)*Таблица43[[#This Row],[RRP*, руб. с НДС 22%]] -> 160250 | H41: Коплектация: Левая и правая стойки для 2 полок, левое и правое крылья, официантская стойка, две полки
